Package: flowPeaks Version: 1.50.0 Command: /home/biocbuild/R/R-beta-2024-04-15_r86425/bin/R CMD check --install=check:flowPeaks.install-out.txt --library=/home/biocbuild/R/R-beta-2024-04-15_r86425/site-library --no-vignettes --timings flowPeaks_1.50.0.tar.gz StartedAt: 2024-05-09 07:29:55 -0000 (Thu, 09 May 2024) EndedAt: 2024-05-09 07:30:17 -0000 (Thu, 09 May 2024) EllapsedTime: 22.1 seconds RetCode: 0 Status: WARNINGS CheckDir: flowPeaks.Rcheck Warnings: 1