Package: flowPeaks Version: 1.50.0 Command: rm -rf flowPeaks.buildbin-libdir && mkdir flowPeaks.buildbin-libdir && /Users/biocbuild/BBS/utils/build-universal.sh flowPeaks_1.50.0.tar.gz /Library/Frameworks/R.framework/Resources/bin/R flowPeaks.buildbin-libdir StartedAt: 2024-06-11 11:15:57 -0400 (Tue, 11 Jun 2024) EndedAt: 2024-06-11 11:16:22 -0400 (Tue, 11 Jun 2024) EllapsedTime: 25.3 seconds RetCode: 0 Status: OK PackageFile: flowPeaks_1.50.0.tgz PackageFileSize: 4.172 MiB