Package: flowPeaks Version: 1.50.0 Command: /Library/Frameworks/R.framework/Resources/bin/R CMD check --install=check:flowPeaks.install-out.txt --library=/Library/Frameworks/R.framework/Resources/library --no-vignettes --timings flowPeaks_1.50.0.tar.gz StartedAt: 2024-10-17 21:57:23 -0400 (Thu, 17 Oct 2024) EndedAt: 2024-10-17 21:57:54 -0400 (Thu, 17 Oct 2024) EllapsedTime: 31.6 seconds RetCode: 0 Status: WARNINGS CheckDir: flowPeaks.Rcheck Warnings: 1