Package: flowMerge Version: 2.52.0 Command: E:\biocbuild\bbs-3.19-bioc\R\bin\R.exe CMD INSTALL flowMerge StartedAt: 2024-10-16 16:19:58 -0400 (Wed, 16 Oct 2024) EndedAt: 2024-10-16 16:20:24 -0400 (Wed, 16 Oct 2024) EllapsedTime: 26.3 seconds RetCode: 0 Status: OK