Package: flowMerge Version: 2.52.0 Command: chmod a+r flowMerge -R && E:\biocbuild\bbs-3.19-bioc\R\bin\R.exe CMD build --keep-empty-dirs --no-resave-data flowMerge StartedAt: 2024-10-16 19:15:01 -0400 (Wed, 16 Oct 2024) EndedAt: 2024-10-16 19:16:07 -0400 (Wed, 16 Oct 2024) EllapsedTime: 65.4 seconds RetCode: 0 Status: OK PackageFile: flowMerge_2.52.0.tar.gz PackageFileSize: 450.6 KiB