Package: flowMerge Version: 2.52.0 Command: rm -rf flowMerge.buildbin-libdir && mkdir flowMerge.buildbin-libdir && E:\biocbuild\bbs-3.19-bioc\R\bin\R.exe CMD INSTALL --build --library=flowMerge.buildbin-libdir flowMerge_2.52.0.tar.gz StartedAt: 2024-10-17 07:48:32 -0400 (Thu, 17 Oct 2024) EndedAt: 2024-10-17 07:49:07 -0400 (Thu, 17 Oct 2024) EllapsedTime: 35.6 seconds RetCode: 0 Status: OK PackageFile: flowMerge_2.52.0.zip PackageFileSize: 899.6 KiB