Package: flowMerge Version: 2.52.0 Command: F:\biocbuild\bbs-3.19-bioc\R\bin\R.exe CMD INSTALL flowMerge StartedAt: 2024-06-26 15:59:40 -0400 (Wed, 26 Jun 2024) EndedAt: 2024-06-26 16:00:07 -0400 (Wed, 26 Jun 2024) EllapsedTime: 26.8 seconds RetCode: 0 Status: OK