Package: flowMerge Version: 2.52.0 Command: rm -rf flowMerge.buildbin-libdir && mkdir flowMerge.buildbin-libdir && F:\biocbuild\bbs-3.19-bioc\R\bin\R.exe CMD INSTALL --build --library=flowMerge.buildbin-libdir flowMerge_2.52.0.tar.gz StartedAt: 2024-06-27 08:13:42 -0400 (Thu, 27 Jun 2024) EndedAt: 2024-06-27 08:14:13 -0400 (Thu, 27 Jun 2024) EllapsedTime: 31.1 seconds RetCode: 0 Status: OK PackageFile: flowMerge_2.52.0.zip PackageFileSize: 899.2 KiB