Package: flowMerge Version: 2.52.0 Command: /home/biocbuild/bbs-3.19-bioc/R/bin/R CMD INSTALL flowMerge StartedAt: 2024-10-16 16:00:36 -0400 (Wed, 16 Oct 2024) EndedAt: 2024-10-16 16:00:55 -0400 (Wed, 16 Oct 2024) EllapsedTime: 18.1 seconds RetCode: 0 Status: OK