Package: flowMerge Version: 2.52.0 Command: /home/biocbuild/bbs-3.19-bioc/R/bin/R CMD check --install=check:flowMerge.install-out.txt --library=/home/biocbuild/bbs-3.19-bioc/R/site-library --timings flowMerge_2.52.0.tar.gz StartedAt: 2024-10-17 00:30:50 -0400 (Thu, 17 Oct 2024) EndedAt: 2024-10-17 00:32:42 -0400 (Thu, 17 Oct 2024) EllapsedTime: 111.3 seconds RetCode: 0 Status: WARNINGS CheckDir: flowMerge.Rcheck Warnings: 1