Package: flowMerge Version: 2.52.0 Command: /home/biocbuild/bbs-3.19-bioc/R/bin/R CMD build --keep-empty-dirs --no-resave-data flowMerge StartedAt: 2024-10-16 18:32:27 -0400 (Wed, 16 Oct 2024) EndedAt: 2024-10-16 18:33:12 -0400 (Wed, 16 Oct 2024) EllapsedTime: 45.1 seconds RetCode: 0 Status: OK PackageFile: flowMerge_2.52.0.tar.gz PackageFileSize: 563 KiB