Package: flowMerge Version: 2.52.0 Command: /Library/Frameworks/R.framework/Resources/bin/R CMD build --keep-empty-dirs --no-resave-data flowMerge StartedAt: 2024-10-16 19:18:25 -0400 (Wed, 16 Oct 2024) EndedAt: 2024-10-16 19:20:51 -0400 (Wed, 16 Oct 2024) EllapsedTime: 146.0 seconds RetCode: 0 Status: OK PackageFile: flowMerge_2.52.0.tar.gz PackageFileSize: 630.7 KiB