Package: flowMerge Version: 2.52.0 Command: /home/biocbuild/R/R-beta-2024-04-15_r86425/bin/R CMD check --install=check:flowMerge.install-out.txt --library=/home/biocbuild/R/R-beta-2024-04-15_r86425/site-library --no-vignettes --timings flowMerge_2.52.0.tar.gz StartedAt: 2024-05-09 07:29:39 -0000 (Thu, 09 May 2024) EndedAt: 2024-05-09 07:31:37 -0000 (Thu, 09 May 2024) EllapsedTime: 118.3 seconds RetCode: 0 Status: WARNINGS CheckDir: flowMerge.Rcheck Warnings: 1