Package: flowMerge Version: 2.52.0 Command: /home/biocbuild/R/R-beta-2024-04-15_r86425/bin/R CMD build --keep-empty-dirs --no-resave-data flowMerge StartedAt: 2024-05-09 00:21:13 -0000 (Thu, 09 May 2024) EndedAt: 2024-05-09 00:22:10 -0000 (Thu, 09 May 2024) EllapsedTime: 57.1 seconds RetCode: 0 Status: OK PackageFile: flowMerge_2.52.0.tar.gz PackageFileSize: 484.7 KiB