Package: flowMerge Version: 2.52.0 Command: /Library/Frameworks/R.framework/Resources/bin/R CMD check --install=check:flowMerge.install-out.txt --library=/Library/Frameworks/R.framework/Resources/library --no-vignettes --timings flowMerge_2.52.0.tar.gz StartedAt: 2024-06-10 15:58:25 -0400 (Mon, 10 Jun 2024) EndedAt: 2024-06-10 16:19:01 -0400 (Mon, 10 Jun 2024) EllapsedTime: 1235.8 seconds RetCode: 0 Status: WARNINGS CheckDir: flowMerge.Rcheck Warnings: 1