Package: flowMerge Version: 2.52.0 Command: /Library/Frameworks/R.framework/Resources/bin/R CMD build --keep-empty-dirs --no-resave-data flowMerge StartedAt: 2024-06-09 21:42:24 -0400 (Sun, 09 Jun 2024) EndedAt: 2024-06-09 21:44:47 -0400 (Sun, 09 Jun 2024) EllapsedTime: 143.2 seconds RetCode: 0 Status: OK PackageFile: flowMerge_2.52.0.tar.gz PackageFileSize: 630.8 KiB