Package: flowMerge Version: 2.52.0 Command: rm -rf flowMerge.buildbin-libdir && mkdir flowMerge.buildbin-libdir && /Users/biocbuild/BBS/utils/build-universal.sh flowMerge_2.52.0.tar.gz /Library/Frameworks/R.framework/Resources/bin/R flowMerge.buildbin-libdir StartedAt: 2024-06-11 11:15:50 -0400 (Tue, 11 Jun 2024) EndedAt: 2024-06-11 11:24:13 -0400 (Tue, 11 Jun 2024) EllapsedTime: 503.3 seconds RetCode: 0 Status: OK PackageFile: flowMerge_2.52.0.tgz PackageFileSize: 1.049 MiB