Package: flowMerge Version: 2.52.0 Command: /Library/Frameworks/R.framework/Resources/bin/R CMD INSTALL flowMerge StartedAt: 2024-10-16 15:50:16 -0400 (Wed, 16 Oct 2024) EndedAt: 2024-10-16 15:50:41 -0400 (Wed, 16 Oct 2024) EllapsedTime: 25.7 seconds RetCode: 0 Status: OK