Package: flowMerge Version: 2.52.0 Command: /Library/Frameworks/R.framework/Resources/bin/R CMD check --install=check:flowMerge.install-out.txt --library=/Library/Frameworks/R.framework/Resources/library --no-vignettes --timings flowMerge_2.52.0.tar.gz StartedAt: 2024-10-17 21:55:35 -0400 (Thu, 17 Oct 2024) EndedAt: 2024-10-17 21:57:44 -0400 (Thu, 17 Oct 2024) EllapsedTime: 128.9 seconds RetCode: 0 Status: WARNINGS CheckDir: flowMerge.Rcheck Warnings: 1