Package: flowMeans Version: 1.64.0 Command: /Library/Frameworks/R.framework/Resources/bin/R CMD check --install=check:flowMeans.install-out.txt --library=/Library/Frameworks/R.framework/Resources/library --no-vignettes --timings flowMeans_1.64.0.tar.gz StartedAt: 2024-10-17 05:26:30 -0400 (Thu, 17 Oct 2024) EndedAt: 2024-10-17 05:31:03 -0400 (Thu, 17 Oct 2024) EllapsedTime: 272.8 seconds RetCode: 0 Status: OK CheckDir: flowMeans.Rcheck Warnings: 0