Package: flowMeans Version: 1.64.0 Command: /Library/Frameworks/R.framework/Resources/bin/R CMD build --keep-empty-dirs --no-resave-data flowMeans StartedAt: 2024-10-16 19:18:25 -0400 (Wed, 16 Oct 2024) EndedAt: 2024-10-16 19:20:05 -0400 (Wed, 16 Oct 2024) EllapsedTime: 100.3 seconds RetCode: 0 Status: OK PackageFile: flowMeans_1.64.0.tar.gz PackageFileSize: 3.284 MiB