Package: flowMeans Version: 1.64.0 Command: /Library/Frameworks/R.framework/Resources/bin/R CMD build --keep-empty-dirs --no-resave-data flowMeans StartedAt: 2024-10-17 00:38:00 -0400 (Thu, 17 Oct 2024) EndedAt: 2024-10-17 00:38:53 -0400 (Thu, 17 Oct 2024) EllapsedTime: 53.5 seconds RetCode: 0 Status: OK PackageFile: flowMeans_1.64.0.tar.gz PackageFileSize: 3.284 MiB