Package: flowMatch Version: 1.40.0 Command: E:\biocbuild\bbs-3.19-bioc\R\bin\R.exe CMD INSTALL flowMatch StartedAt: 2024-10-16 16:19:09 -0400 (Wed, 16 Oct 2024) EndedAt: 2024-10-16 16:19:52 -0400 (Wed, 16 Oct 2024) EllapsedTime: 42.9 seconds RetCode: 0 Status: OK