Package: flowMatch Version: 1.40.0 Command: rm -rf flowMatch.buildbin-libdir && mkdir flowMatch.buildbin-libdir && E:\biocbuild\bbs-3.19-bioc\R\bin\R.exe CMD INSTALL --build --library=flowMatch.buildbin-libdir flowMatch_1.40.0.tar.gz StartedAt: 2024-10-17 07:48:28 -0400 (Thu, 17 Oct 2024) EndedAt: 2024-10-17 07:49:22 -0400 (Thu, 17 Oct 2024) EllapsedTime: 53.2 seconds RetCode: 0 Status: OK PackageFile: flowMatch_1.40.0.zip PackageFileSize: 4.157 MiB