Package: flowMatch Version: 1.40.0 Command: /home/biocbuild/R/R-beta-2024-04-15_r86425/bin/R CMD check --install=check:flowMatch.install-out.txt --library=/home/biocbuild/R/R-beta-2024-04-15_r86425/site-library --no-vignettes --timings flowMatch_1.40.0.tar.gz StartedAt: 2024-05-09 07:29:27 -0000 (Thu, 09 May 2024) EndedAt: 2024-05-09 07:31:44 -0000 (Thu, 09 May 2024) EllapsedTime: 137.3 seconds RetCode: 0 Status: OK CheckDir: flowMatch.Rcheck Warnings: 0