Package: flowMatch Version: 1.40.0 Command: /Library/Frameworks/R.framework/Resources/bin/R CMD INSTALL flowMatch StartedAt: 2024-10-16 15:44:02 -0400 (Wed, 16 Oct 2024) EndedAt: 2024-10-16 15:44:28 -0400 (Wed, 16 Oct 2024) EllapsedTime: 25.9 seconds RetCode: 0 Status: OK