Package: flowMatch Version: 1.40.0 Command: /Library/Frameworks/R.framework/Resources/bin/R CMD build --keep-empty-dirs --no-resave-data flowMatch StartedAt: 2024-10-17 00:37:01 -0400 (Thu, 17 Oct 2024) EndedAt: 2024-10-17 00:38:35 -0400 (Thu, 17 Oct 2024) EllapsedTime: 94.5 seconds RetCode: 0 Status: OK PackageFile: flowMatch_1.40.0.tar.gz PackageFileSize: 3.675 MiB