Package: flowMap Version: 1.42.0 Command: chmod a+r flowMap -R && E:\biocbuild\bbs-3.19-bioc\R\bin\R.exe CMD build --keep-empty-dirs --no-resave-data flowMap StartedAt: 2024-10-16 19:13:45 -0400 (Wed, 16 Oct 2024) EndedAt: 2024-10-16 19:15:06 -0400 (Wed, 16 Oct 2024) EllapsedTime: 81.2 seconds RetCode: 0 Status: OK PackageFile: flowMap_1.42.0.tar.gz PackageFileSize: 880.3 KiB