Package: flowMap Version: 1.42.0 Command: F:\biocbuild\bbs-3.19-bioc\R\bin\R.exe CMD INSTALL flowMap StartedAt: 2024-06-26 15:47:17 -0400 (Wed, 26 Jun 2024) EndedAt: 2024-06-26 15:47:36 -0400 (Wed, 26 Jun 2024) EllapsedTime: 18.8 seconds RetCode: 0 Status: OK