Package: flowMap Version: 1.42.0 Command: chmod a+r flowMap -R && F:\biocbuild\bbs-3.19-bioc\R\bin\R.exe CMD build --keep-empty-dirs --no-resave-data flowMap StartedAt: 2024-06-26 18:57:28 -0400 (Wed, 26 Jun 2024) EndedAt: 2024-06-26 18:58:47 -0400 (Wed, 26 Jun 2024) EllapsedTime: 79.2 seconds RetCode: 0 Status: OK PackageFile: flowMap_1.42.0.tar.gz PackageFileSize: 879.6 KiB