Package: flowMap Version: 1.42.0 Command: /home/biocbuild/bbs-3.19-bioc/R/bin/R CMD check --install=check:flowMap.install-out.txt --library=/home/biocbuild/bbs-3.19-bioc/R/site-library --timings flowMap_1.42.0.tar.gz StartedAt: 2024-10-17 00:30:27 -0400 (Thu, 17 Oct 2024) EndedAt: 2024-10-17 00:31:11 -0400 (Thu, 17 Oct 2024) EllapsedTime: 44.1 seconds RetCode: 1 Status: ERROR CheckDir: flowMap.Rcheck Warnings: NA