Package: flowMap Version: 1.42.0 Command: /Library/Frameworks/R.framework/Resources/bin/R CMD check --install=check:flowMap.install-out.txt --library=/Library/Frameworks/R.framework/Resources/library --no-vignettes --timings flowMap_1.42.0.tar.gz StartedAt: 2024-10-17 05:26:17 -0400 (Thu, 17 Oct 2024) EndedAt: 2024-10-17 05:27:56 -0400 (Thu, 17 Oct 2024) EllapsedTime: 98.6 seconds RetCode: 0 Status: WARNINGS CheckDir: flowMap.Rcheck Warnings: 2