Package: flowMap Version: 1.42.0 Command: /Library/Frameworks/R.framework/Resources/bin/R CMD check --install=check:flowMap.install-out.txt --library=/Library/Frameworks/R.framework/Resources/library --no-vignettes --timings flowMap_1.42.0.tar.gz StartedAt: 2024-05-26 21:17:17 -0400 (Sun, 26 May 2024) EndedAt: 2024-05-26 21:18:16 -0400 (Sun, 26 May 2024) EllapsedTime: 58.9 seconds RetCode: 0 Status: WARNINGS CheckDir: flowMap.Rcheck Warnings: 2