Package: flowGraph Version: 1.12.0 Command: F:\biocbuild\bbs-3.19-bioc\R\bin\R.exe CMD check --no-multiarch --install=check:flowGraph.install-out.txt --library=F:\biocbuild\bbs-3.19-bioc\R\library --no-vignettes --timings flowGraph_1.12.0.tar.gz StartedAt: 2024-06-27 01:43:41 -0400 (Thu, 27 Jun 2024) EndedAt: 2024-06-27 01:48:22 -0400 (Thu, 27 Jun 2024) EllapsedTime: 281.6 seconds RetCode: 0 Status: OK CheckDir: flowGraph.Rcheck Warnings: 0