Package: flowGraph Version: 1.12.0 Command: chmod a+r flowGraph -R && F:\biocbuild\bbs-3.19-bioc\R\bin\R.exe CMD build --keep-empty-dirs --no-resave-data flowGraph StartedAt: 2024-06-26 18:56:49 -0400 (Wed, 26 Jun 2024) EndedAt: 2024-06-26 18:58:37 -0400 (Wed, 26 Jun 2024) EllapsedTime: 107.1 seconds RetCode: 0 Status: OK PackageFile: flowGraph_1.12.0.tar.gz PackageFileSize: 1.226 MiB