Package: flowGraph Version: 1.12.0 Command: rm -rf flowGraph.buildbin-libdir && mkdir flowGraph.buildbin-libdir && F:\biocbuild\bbs-3.19-bioc\R\bin\R.exe CMD INSTALL --build --library=flowGraph.buildbin-libdir flowGraph_1.12.0.tar.gz StartedAt: 2024-06-27 08:13:34 -0400 (Thu, 27 Jun 2024) EndedAt: 2024-06-27 08:14:04 -0400 (Thu, 27 Jun 2024) EllapsedTime: 30.3 seconds RetCode: 0 Status: OK PackageFile: flowGraph_1.12.0.zip PackageFileSize: 1.604 MiB