Package: flowGraph Version: 1.12.0 Command: /Library/Frameworks/R.framework/Resources/bin/R CMD INSTALL flowGraph StartedAt: 2024-10-16 16:03:05 -0400 (Wed, 16 Oct 2024) EndedAt: 2024-10-16 16:03:40 -0400 (Wed, 16 Oct 2024) EllapsedTime: 34.9 seconds RetCode: 0 Status: OK