Package: flowGraph Version: 1.12.0 Command: /Library/Frameworks/R.framework/Resources/bin/R CMD build --keep-empty-dirs --no-resave-data flowGraph StartedAt: 2024-06-09 16:40:52 -0400 (Sun, 09 Jun 2024) EndedAt: 2024-06-09 16:41:58 -0400 (Sun, 09 Jun 2024) EllapsedTime: 65.9 seconds RetCode: 0 Status: OK PackageFile: flowGraph_1.12.0.tar.gz PackageFileSize: 2.076 MiB