Package: flowGraph Version: 1.12.0 Command: /Library/Frameworks/R.framework/Resources/bin/R CMD build --keep-empty-dirs --no-resave-data flowGraph StartedAt: 2024-10-17 00:36:52 -0400 (Thu, 17 Oct 2024) EndedAt: 2024-10-17 00:38:00 -0400 (Thu, 17 Oct 2024) EllapsedTime: 68.0 seconds RetCode: 0 Status: OK PackageFile: flowGraph_1.12.0.tar.gz PackageFileSize: 2.076 MiB