Package: flowGraph Version: 1.12.0 Command: rm -rf flowGraph.buildbin-libdir && mkdir flowGraph.buildbin-libdir && /Users/biocbuild/BBS/utils/build-universal.sh flowGraph_1.12.0.tar.gz /Library/Frameworks/R.framework/Resources/bin/R flowGraph.buildbin-libdir StartedAt: 2024-10-18 18:31:27 -0400 (Fri, 18 Oct 2024) EndedAt: 2024-10-18 18:31:45 -0400 (Fri, 18 Oct 2024) EllapsedTime: 17.8 seconds RetCode: 0 Status: OK PackageFile: flowGraph_1.12.0.tgz PackageFileSize: 2.444 MiB