Package: flowGate Version: 1.4.0 Command: chmod a+r flowGate -R && E:\biocbuild\bbs-3.19-bioc\R\bin\R.exe CMD build --keep-empty-dirs --no-resave-data flowGate StartedAt: 2024-10-16 19:13:11 -0400 (Wed, 16 Oct 2024) EndedAt: 2024-10-16 19:14:59 -0400 (Wed, 16 Oct 2024) EllapsedTime: 107.8 seconds RetCode: 0 Status: OK PackageFile: flowGate_1.4.0.tar.gz PackageFileSize: 1.897 MiB