Package: flowGate Version: 1.4.0 Command: /Library/Frameworks/R.framework/Resources/bin/R CMD check --install=check:flowGate.install-out.txt --library=/Library/Frameworks/R.framework/Resources/library --no-vignettes --timings flowGate_1.4.0.tar.gz StartedAt: 2024-10-17 05:26:05 -0400 (Thu, 17 Oct 2024) EndedAt: 2024-10-17 05:29:30 -0400 (Thu, 17 Oct 2024) EllapsedTime: 204.9 seconds RetCode: 0 Status: OK CheckDir: flowGate.Rcheck Warnings: 0