Package: flowGate Version: 1.4.0 Command: /Library/Frameworks/R.framework/Resources/bin/R CMD check --install=check:flowGate.install-out.txt --library=/Library/Frameworks/R.framework/Resources/library --no-vignettes --timings flowGate_1.4.0.tar.gz StartedAt: 2024-06-09 20:25:53 -0400 (Sun, 09 Jun 2024) EndedAt: 2024-06-09 20:27:36 -0400 (Sun, 09 Jun 2024) EllapsedTime: 103.1 seconds RetCode: 0 Status: OK CheckDir: flowGate.Rcheck Warnings: 0