Package: flowGate Version: 1.4.0 Command: /home/biocbuild/R/R-beta-2024-04-15_r86425/bin/R CMD INSTALL flowGate StartedAt: 2024-05-08 20:35:30 -0000 (Wed, 08 May 2024) EndedAt: 2024-05-08 20:35:50 -0000 (Wed, 08 May 2024) EllapsedTime: 19.4 seconds RetCode: 0 Status: OK