Package: flowGate Version: 1.4.0 Command: /home/biocbuild/R/R-beta-2024-04-15_r86425/bin/R CMD check --install=check:flowGate.install-out.txt --library=/home/biocbuild/R/R-beta-2024-04-15_r86425/site-library --no-vignettes --timings flowGate_1.4.0.tar.gz StartedAt: 2024-05-09 07:29:06 -0000 (Thu, 09 May 2024) EndedAt: 2024-05-09 07:30:55 -0000 (Thu, 09 May 2024) EllapsedTime: 109.3 seconds RetCode: 0 Status: OK CheckDir: flowGate.Rcheck Warnings: 0