Package: flowGate Version: 1.4.0 Command: /home/biocbuild/R/R-beta-2024-04-15_r86425/bin/R CMD build --keep-empty-dirs --no-resave-data flowGate StartedAt: 2024-05-09 00:20:33 -0000 (Thu, 09 May 2024) EndedAt: 2024-05-09 00:21:13 -0000 (Thu, 09 May 2024) EllapsedTime: 40.1 seconds RetCode: 0 Status: OK PackageFile: flowGate_1.4.0.tar.gz PackageFileSize: 1.935 MiB