Package: flowFP Version: 1.62.0 Command: E:\biocbuild\bbs-3.19-bioc\R\bin\R.exe CMD INSTALL flowFP StartedAt: 2024-10-16 16:21:32 -0400 (Wed, 16 Oct 2024) EndedAt: 2024-10-16 16:22:03 -0400 (Wed, 16 Oct 2024) EllapsedTime: 31.2 seconds RetCode: 0 Status: OK