Package: flowFP Version: 1.62.0 Command: chmod a+r flowFP -R && E:\biocbuild\bbs-3.19-bioc\R\bin\R.exe CMD build --keep-empty-dirs --no-resave-data flowFP StartedAt: 2024-10-16 19:12:51 -0400 (Wed, 16 Oct 2024) EndedAt: 2024-10-16 19:13:26 -0400 (Wed, 16 Oct 2024) EllapsedTime: 34.9 seconds RetCode: 0 Status: OK PackageFile: flowFP_1.62.0.tar.gz PackageFileSize: 5.122 MiB