Package: flowFP Version: 1.62.0 Command: /Library/Frameworks/R.framework/Resources/bin/R CMD build --keep-empty-dirs --no-resave-data flowFP StartedAt: 2024-10-17 00:36:08 -0400 (Thu, 17 Oct 2024) EndedAt: 2024-10-17 00:36:52 -0400 (Thu, 17 Oct 2024) EllapsedTime: 43.5 seconds RetCode: 0 Status: OK PackageFile: flowFP_1.62.0.tar.gz PackageFileSize: 5.129 MiB