Package: flowDensity Version: 1.38.0 Command: E:\biocbuild\bbs-3.19-bioc\R\bin\R.exe CMD INSTALL flowDensity StartedAt: 2024-10-16 17:00:37 -0400 (Wed, 16 Oct 2024) EndedAt: 2024-10-16 17:00:56 -0400 (Wed, 16 Oct 2024) EllapsedTime: 18.6 seconds RetCode: 0 Status: OK